BEGIN:VCALENDAR
VERSION:2.0
PRODID:-//ChamberMaster//Event Calendar 2.0//EN
METHOD:PUBLISH
X-PUBLISHED-TTL:P3D
REFRESH-INTERVAL:P3D
CALSCALE:GREGORIAN
BEGIN:VEVENT
DTSTART:20180813T153000Z
DTEND:20180813T193000Z
X-MICROSOFT-CDO-ALLDAYEVENT:FALSE
SUMMARY:Sonic Workshop
DESCRIPTION:Explore and discover the many ways we shape\, create and play with sound this summer\, in our new Sonic Workshop. This exciting new space will feature the Digital Musicians' Toolbox\, a trio of large\, interactive touch screen displays that will allow visitors to explore music making in all its forms\, and play with the tools and ideas that musicians use to create. Visitors are encouraged to work creatively in the Makey Makey Workstation to build their own digital instrument using everyday items like play dough\, tinfoil\, pencils\, and/or anything that can conduct electricity! There will also be student created sonic exhibits that are sure to amaze and inspire.
X-ALT-DESC;FMTTYPE=text/html:<span style="font-family:cambria\,serif">Explore and discover the many ways we shape\, create and play with sound this summer\, in our new Sonic Workshop. This exciting new space will feature the Digital Musicians&#39\; Toolbox\, a trio of large\, interactive touch screen displays that will allow visitors to explore music making in all its forms\, and play with the tools and ideas that musicians use to create. Visitors are encouraged to work creatively in the Makey Makey Workstation to build their own digital instrument using everyday items like play dough\, tinfoil\, pencils\, and/or anything that can conduct electricity! There will also be student created sonic exhibits that are sure to amaze and inspire.</span><br />\n<br />\n<br />\n<br />\n&nbsp\;
LOCATION:Ann Arbor Hands-On Museum 220 E. Ann St. Ann Arbor\, MI 48104
UID:e.276.14735
SEQUENCE:3
DTSTAMP:20260420T082301Z
URL:https://business.a2ychamber.org/events/details/sonic-workshop-08-13-2018-14735
END:VEVENT

END:VCALENDAR
