BEGIN:VCALENDAR
VERSION:2.0
PRODID:-//ChamberMaster//Event Calendar 2.0//EN
METHOD:PUBLISH
X-PUBLISHED-TTL:P3D
REFRESH-INTERVAL:P3D
CALSCALE:GREGORIAN
BEGIN:VEVENT
DTSTART:20260619T190000Z
DTEND:20260621T150000Z
X-MICROSOFT-CDO-ALLDAYEVENT:FALSE
SUMMARY:Rest & Relaxation Retreat
DESCRIPTION:Take a weekend to relax\, rejuvenate and refresh in the beauty of Pure Michigan.\n\nJune 19th - 21st\, 2026\n\nLong Lake Outdoor Center\, Middleville\, MI\n\nRetreat Includes:\n\nYoga/Meditation/Sup Yoga*/5 Homemade Meals/2 nights lodging/Bonfires*/Free Time/Games/Walking and Biking Trails\n\n\n\n\n\n\n\n\n\n\n\n\nAre you feeling overwhelmed\; that you have no time for yourself? When was the last time you sat quietly outside enjoying your morning coffee? Join us for a weekend with no demands or interruptions\, as you allow the beauty of trees and the lake to calm your mind and restore your soul. Take time for yourself\, to find you who are again.\n\nPricing:\n\n\n	\n	Cabin $1\,300.00 total (up to 5 people)\n	\n	\n	Individual $349.00\n	\n	\n	Commuter $150.00\, with meals $230.00\n	\n\n\nWe can accommodate gluten-free and vegetarian diets.\n\n*SUP and bonfires are subject to weather conditions\n\nNon-refundable deposit of $50.00 for individuals and $150.00 for cabins to reserve your spot
X-ALT-DESC;FMTTYPE=text/html:<div>\n<div>\n<div>\n<h2 style="text-align:center">Take a weekend to relax\, rejuvenate and refresh in the beauty of Pure Michigan.</h2>\n\n<h3 style="text-align:center"><strong><em>June 19th - 21st\, 2026</em></strong></h3>\n\n<h3 style="text-align:center"><strong><em>Long Lake Outdoor Center\, Middleville\, MI</em></strong></h3>\n\n<h3 style="text-align:center"><strong><em>Retreat Includes:</em></strong></h3>\n\n<h3 style="text-align:center"><strong><em>Yoga/Meditation/Sup Yoga*/5 Homemade Meals/2 nights lodging/Bonfires</em></strong><em>*</em><strong><em>/Free Time/Games/Walking and Biking Trails</em></strong></h3>\n</div>\n</div>\n</div>\n\n<div>\n<div>\n<hr /></div>\n</div>\n\n<div>\n<div>\n<div>\n<p>Are you feeling overwhelmed\; that you have no time for yourself? When was the last time you sat quietly outside enjoying your morning coffee? Join us for a weekend with no demands or interruptions\, as you allow the beauty of trees and the lake to calm your mind and restore your soul. Take time for yourself\, to find you who are again.</p>\n\n<p>Pricing:</p>\n\n<ul>\n	<li>\n	<p>Cabin $1\,300.00 total (up to 5 people)</p>\n	</li>\n	<li>\n	<p>Individual $349.00</p>\n	</li>\n	<li>\n	<p>Commuter $150.00\, with meals $230.00</p>\n	</li>\n</ul>\n\n<p>We can accommodate gluten-free and vegetarian diets.</p>\n\n<p>*SUP and bonfires are subject to weather conditions</p>\n\n<p>Non-refundable deposit of $50.00 for individuals and $150.00 for cabins to reserve your spot</p>\n</div>\n</div>\n</div>\n
LOCATION:Long Lake Outdoor Center\, Middleville\, MI
UID:e.276.19375
SEQUENCE:3
DTSTAMP:20260422T103219Z
URL:https://business.a2ychamber.org/events/details/rest-relaxation-retreat-19375
END:VEVENT

END:VCALENDAR
