BEGIN:VCALENDAR
VERSION:2.0
PRODID:-//ChamberMaster//Event Calendar 2.0//EN
METHOD:PUBLISH
X-PUBLISHED-TTL:P3D
REFRESH-INTERVAL:P3D
CALSCALE:GREGORIAN
BEGIN:VEVENT
DTSTART:20260315T180000Z
DTEND:20260315T190000Z
X-MICROSOFT-CDO-ALLDAYEVENT:FALSE
SUMMARY:Melt Method Hand & Foot Workshop
DESCRIPTION:Do you suffer from aches brought on by everyday stress\, overuse\, or age? Join us for an introductory workshop designed to make your whole body feel better.\n\nIn this session\, you will learn how the body's connective tissue gets dehydrated and causes common aches. Using gentle self-treatment techniques\, you will learn how to rehydrate this essential system for vibrant health and pain-free movement.\n\nIn this workshop\, we focus on our hands and feet techniques. However\, these techniques are felt throughout the body.\n\nImprove:\n\n\n	\n	fluid in your body.\n	\n	\n	flexibility and mobility\n	\n	\n	circulation in your hands\, feet and legs\n	\n\n\nCan Provide Relief for:\n\n\n	\n	Arthritis and bunions\n	\n	\n	Plantar fasciitis\n	\n	\n	Neuropathy\n	\n	\n	Carpal tunnel syndrome\n	\n	\n	Tight muscles\n	\n	\n	Stress in the body\n	\n\n\nBring a mat and water\, wear comfortable clothing.\n\nFor this workshop\, you can bring a mat and participate on the floor. Or table and chairs will provided and you participate either standing and/or seated.
X-ALT-DESC;FMTTYPE=text/html:<p>Do you suffer from aches brought on by everyday stress\, overuse\, or age? Join us for an introductory workshop designed to make your whole body feel better.</p>\n\n<p>In this session\, you will learn how the body&rsquo\;s connective tissue gets dehydrated and causes common aches. Using gentle self-treatment techniques\, you will learn how to rehydrate this essential system for vibrant health and pain-free movement.</p>\n\n<p>In this workshop\, we focus on our hands and feet techniques. However\, these techniques are felt throughout the body.</p>\n\n<p>Improve:</p>\n\n<ul>\n	<li>\n	<p>fluid in your body.</p>\n	</li>\n	<li>\n	<p>flexibility and mobility</p>\n	</li>\n	<li>\n	<p>circulation in your hands\, feet and legs</p>\n	</li>\n</ul>\n\n<p>Can Provide Relief for:</p>\n\n<ul>\n	<li>\n	<p>Arthritis and bunions</p>\n	</li>\n	<li>\n	<p>Plantar fasciitis</p>\n	</li>\n	<li>\n	<p>Neuropathy</p>\n	</li>\n	<li>\n	<p>Carpal tunnel syndrome</p>\n	</li>\n	<li>\n	<p>Tight muscles</p>\n	</li>\n	<li>\n	<p>Stress in the body</p>\n	</li>\n</ul>\n\n<p>Bring a mat and water\, wear comfortable clothing.</p>\n\n<p>For this workshop\, you can bring a mat and participate on the floor. Or table and chairs will provided and you participate either standing and/or seated.</p>\n
LOCATION:A2 Yoga\, 2030 Commerce Blvd\, Ann Arbor\, MI 48103
UID:e.276.19419
SEQUENCE:3
DTSTAMP:20260420T181816Z
URL:https://business.a2ychamber.org/events/details/melt-method-hand-foot-workshop-03-15-2026-19419
END:VEVENT

END:VCALENDAR
