BEGIN:VCALENDAR
VERSION:2.0
PRODID:-//ChamberMaster//Event Calendar 2.0//EN
METHOD:PUBLISH
X-PUBLISHED-TTL:P3D
REFRESH-INTERVAL:P3D
CALSCALE:GREGORIAN
BEGIN:VEVENT
DTSTART:20140428T153000Z
DTEND:20140428T170000Z
X-MICROSOFT-CDO-ALLDAYEVENT:FALSE
SUMMARY:Headline Lunch: Personal Property Tax
DESCRIPTION:Do you pay taxes\, use services from or interact with state or local government\, or own or work for a business? If the answer to any of these questions is yes\, then you should know about the A2Y Chamber's Headline Lunch on Monday\, April 28th (further details below). We have a unique program to educate and inform attendees on Michigan's Personal Property Tax (PPT)\, how it will be reformed\, and the important upcoming August ballot question. \n\n \n\nThe PPT presents a unique challenge to our state\; it's an uncompetitive tax on business and industrial equipment\, yet local governments rely on this revenue to fund services.  To meet this challenge the Michigan Legislature recently passed a package of bi-partisan legislation ensuring PPT reform does not cut funding to local governments. Key to this legislative effort was Washtenaw County's own\n\nState Senator Rebekah Warren (D-18). However\, these changes will only take effect if voters approve them at the ballot this August\, and there is still a lot for business owners and local governments to learn about:\n\n\n	Why the PPT is in need of reform\;\n	How the reform works\;\n	Learn why such a broad spectrum of stakeholders are in support of this plan\;\n	What you should know ahead of the August 2014 PPT vote\n\nTo answer these questions we have a program of three influential speakers:\n\n \n\nState Senator Rebekah Warren\,\n\nMichigan's 18th Senate District\n\n \n\nMike Johnston\,\n\nVice President of Government Affairs for the Michigan Manufacturers Association\n\n \n\nTricia Kinley\, \n\nSenior Director of Tax & Regulatory Reform for the Michigan Chamber of Commerce\n\n \n\nOur panel has firsthand knowledge on the substance and process of PPT reform. Their expertise can provide you with the information you need to know.
X-ALT-DESC;FMTTYPE=text/html:<span style="color:black\;"><span style="font-family:arial\,sans-serif\;"><span style="font-size:11.0pt\;">Do you pay taxes\, use services from or interact with state or local government\, or own or work for a business? If the answer to any of these questions is yes\, then you should know about the A2Y Chamber&#39\;s Headline Lunch on&nbsp\;<strong>Monday\, April 28<sup>th</sup><sup>&nbsp\;</sup></strong>(further details below). We have a unique program to educate and inform attendees on Michigan&#39\;s Personal Property Tax (PPT)\, how it will be reformed\, and the important upcoming August ballot question.&nbsp\;</span></span></span><br />\n&nbsp\;<br />\n<span style="color:black\;"><span style="font-family:arial\,sans-serif\;"><span style="font-size:11.0pt\;">The PPT presents a unique challenge to our state\; it&#39\;s an uncompetitive tax on business and industrial equipment\, yet local governments rely on this revenue to fund services.&nbsp\; To meet this challenge the Michigan Legislature recently passed a package of bi-partisan legislation ensuring PPT reform does not cut funding to local governments. Key to this legislative effort was Washtenaw County&#39\;s own</span></span></span><br />\n<strong><span style="color:black\;"><span style="font-family:arial\,sans-serif\;"><span style="font-size:11.0pt\;">State Senator Rebekah Warren&nbsp\;</span></span></span></strong><span style="color:black\;"><span style="font-family:arial\,sans-serif\;"><span style="font-size:11.0pt\;">(D-18). However\, these changes will only take effect if voters approve them at the ballot this August\, and there is still a lot for business owners and local governments to learn about:</span></span></span>\n\n<ul>\n	<li style="color:black\;"><span style="font-family:arial\,sans-serif\;"><span style="font-size:11.0pt\;">Why the PPT is in need of reform\;</span></span></li>\n	<li style="color:black\;"><span style="font-family:arial\,sans-serif\;"><span style="font-size:11.0pt\;">How the reform works\;</span></span></li>\n	<li style="color:black\;"><span style="font-family:arial\,sans-serif\;"><span style="font-size:11.0pt\;">Learn why such a broad spectrum of stakeholders are in support of this plan\;</span></span></li>\n	<li style="color:black\;"><span style="font-family:arial\,sans-serif\;"><span style="font-size:11.0pt\;">What you should know ahead of the August 2014 PPT vote</span></span></li>\n</ul>\n<span style="color:black\;"><span style="font-family:arial\,sans-serif\;"><span style="font-size:11.0pt\;">To answer these questions we have a program of three influential speakers:</span></span></span><br />\n&nbsp\;<br />\n<strong><span style="color:black\;"><span style="font-family:arial\,sans-serif\;"><span style="font-size:11.0pt\;">State Senator Rebekah Warren</span></span></span></strong><span style="color:black\;"><span style="font-family:arial\,sans-serif\;"><span style="font-size:11.0pt\;">\,</span></span></span><br />\n<span style="color:black\;"><span style="font-family:arial\,sans-serif\;"><span style="font-size:11.0pt\;">Michigan&#39\;s 18th&nbsp\;Senate District</span></span></span><br />\n&nbsp\;<br />\n<strong><span style="color:black\;"><span style="font-family:arial\,sans-serif\;"><span style="font-size:11.0pt\;">Mike Johnston\,</span></span></span></strong><br />\n<span style="color:black\;"><span style="font-family:arial\,sans-serif\;"><span style="font-size:11.0pt\;">Vice President of Government Affairs for the Michigan Manufacturers Association</span></span></span><br />\n&nbsp\;<br />\n<strong><span style="color:black\;"><span style="font-family:arial\,sans-serif\;"><span style="font-size:11.0pt\;">Tricia Kinley\, </span></span></span></strong><br />\n<span style="color:black\;"><span style="font-family:arial\,sans-serif\;">Senior Director of Tax &amp\; Regulatory Reform for the Michigan Chamber of Commerce</span></span><br />\n&nbsp\;<br />\n<span style="color:black\;"><span style="font-family:arial\,sans-serif\;">Our panel has firsthand knowledge on the substance and process of PPT reform. Their expertise can provide you with the information you need to know.</span></span><br />\n&nbsp\;
LOCATION:Sheraton Ann Arbor Hotel 3200 Boardwalk Street Ann Arbor\, Michigan 48108-1774
UID:e.276.4365
SEQUENCE:3
DTSTAMP:20260421T024529Z
URL:https://business.a2ychamber.org/events/details/headline-lunch-personal-property-tax-04-28-2014-4365
END:VEVENT

END:VCALENDAR
