BEGIN:VCALENDAR
VERSION:2.0
PRODID:-//ChamberMaster//Event Calendar 2.0//EN
METHOD:PUBLISH
X-PUBLISHED-TTL:P3D
REFRESH-INTERVAL:P3D
CALSCALE:GREGORIAN
BEGIN:VEVENT
DTSTART;VALUE=DATE:20260214
DTEND;VALUE=DATE:20260222
TRANSP:TRANSPARENT
X-MICROSOFT-CDO-ALLDAYEVENT:TRUE
SUMMARY:Fun & Sun Retreat in Costa Rica
DESCRIPTION:You are invited to Eclipse' Sun & Fun Retreat in Costa Rica!\n\nFeb 14th-Feb 21st\, escape the ordinary and join us for a week of relaxation\, movement\, and connection in beautiful Costa Rica. This 7-night retreat is designed to help you reset and recharge through daily yoga\, restorative classes\, nourishing meals\, and time to simply enjoy the natural beauty around you. Whether you're flowing on your mat\, watching the sunset from a boat\, or exploring the vibrant local culture\, this is your time to slow down\, breathe deeply\, and embrace the pura vida lifestyle!\n\nTraveling with someone who doesn't practice yoga? That is OK. All are accepted with no requirements to participate.
X-ALT-DESC;FMTTYPE=text/html:<div>\n<div>\n<div>\n<h2>You are invited to Eclipse&rsquo\; Sun &amp\; Fun Retreat in Costa Rica!</h2>\n\n<p>Feb 14th-Feb 21st\, escape the ordinary and join us for a week of relaxation\, movement\, and connection in beautiful Costa Rica. This 7-night retreat is designed to help you reset and recharge through daily yoga\, restorative classes\, nourishing meals\, and time to simply enjoy the natural beauty around you. Whether you&#39\;re flowing on your mat\, watching the sunset from a boat\, or exploring the vibrant local culture\, this is your time to slow down\, breathe deeply\, and embrace the pura vida lifestyle!</p>\n\n<p>Traveling with someone who doesn&rsquo\;t practice yoga? That is OK. All are accepted with no requirements to participate.</p>\n</div>\n</div>\n</div>\n
LOCATION:Playa Grande\, Costa Rica
UID:e.276.19374
SEQUENCE:3
DTSTAMP:20260421T084301Z
URL:https://business.a2ychamber.org/events/details/fun-sun-retreat-in-costa-rica-19374
END:VEVENT

END:VCALENDAR
