BEGIN:VCALENDAR
VERSION:2.0
PRODID:-//ChamberMaster//Event Calendar 2.0//EN
METHOD:PUBLISH
X-PUBLISHED-TTL:P3D
REFRESH-INTERVAL:P3D
CALSCALE:GREGORIAN
BEGIN:VEVENT
DTSTART:20150321T000000Z
DTEND:20150321T020000Z
X-MICROSOFT-CDO-ALLDAYEVENT:FALSE
SUMMARY:FASHION FORWARD: all that glitters tonight...is gold
DESCRIPTION:VIP TICKETS ARE SOLD OUT FOR THIS EVENT.\n\n\n\nPre-Registration is closed however we will still be selling tickets at the door! See you tonight!\n\n\n\nGeneral Admission & Student Gen. Admission Tickets are still available.\n\n\n\nSPRING 2015 FASHION SHOW:\n\n\n\nJoin us for a glamorous night of local fashion at the Ann Arbor City Club on Friday\, March 20th for FASHION FORWARD: all that glitters tonight is gold.  This spring 2015 fashion show is coordinated in partnership with A2YConverge (the the A2Y Chamber's young professionals organization)\, in support of local retailers.\n\n\n\nFASHION FORWARD will begin at 8:00 pm\, with a VIP hour starting at 7:00 pm\, which will include beverages and hors d' oeuvres.  \n\n\n\nJoin us in supporting our local retailers during a night of fashion\, fun\, and music!\n\n\n\nParticipating Retailers:\n\nRENAISSANCE\n\nPerpetua Boutique Organique\n\nVan Boven Clothing\n\n Maggie's Organics\n\nSILPADA\n\nLegion Goods/Gallery\n\nNina McLemore\n\nToday Clothing\n\nBivouac\n\nKaren Egren\n\n Collected Works\n\nThe Barre Code\n\nJ.Jill\n\nMy Urban Toddler\n\nEVEREVE\n\nV2V\n\nAnnex of paredown
X-ALT-DESC;FMTTYPE=text/html:<br />\n<span style="color: rgb(68\, 68\, 68)\; font-family: arial\, sans-serif\; font-size: 14px\; line-height: 18.2000007629395px\;"><strong><span style="font-size:16px\;">VIP TICKETS ARE SOLD OUT FOR THIS EVENT.<br />\n<br />\nPre-Registration is closed however we will still be selling tickets at the door! See you tonight!<br />\n<br />\nGeneral Admission &amp\; Student Gen. Admission Tickets are still available.</span></strong><br />\n<br />\nSPRING 2015 FASHION SHOW:<br />\n<br />\nJoin us for a glamorous night of local fashion&nbsp\;at the Ann Arbor City Club on Friday\, March 20th&nbsp\;for FASHION FORWARD: all that glitters tonight&nbsp\;is gold. &nbsp\;This spring 2015 fashion show is coordinated in partnership with A2YConverge (the the A2Y Chamber&#39\;s young professionals organization)\, in support of local retailers.</span><br />\n<br style="box-sizing: content-box\; bottom: auto\; clear: none\; color: rgb(68\, 68\, 68)\; content: normal\; direction: inherit\; display: inline\; empty-cells: show\; float: none\; font-family: arial\, sans-serif\; font-size: 14px\; font-stretch: inherit\; left: auto\; line-height: 18.2000007629395px\; margin: 0px\; max-height: none\; max-width: none\; opacity: 1\; outline: invert none medium\; outline-offset: 0px\; overflow: visible\; padding: 0px\; position: static\; resize: none\; right: auto\; table-layout: auto\; text-overflow: clip\; top: auto\; vertical-align: baseline\; visibility: inherit\; word-break: inherit\; word-wrap: inherit\; z-index: auto\; border: none\; border-collapse: separate\; border-image-source: none\; border-image-slice: 100% 1 0\; border-image-repeat: stretch\; border-radius: 0px\; height: auto\; width: auto\; background-image: none\; background-attachment: initial\; background-size: initial\; background-origin: initial\; background-clip: initial\; background-position: initial\; background-repeat: initial\;" />\n<span style="color: rgb(68\, 68\, 68)\; font-family: arial\, sans-serif\; font-size: 14px\; line-height: 18.2000007629395px\;">FASHION FORWARD will begin at 8:00 pm\, with a VIP hour starting at 7:00 pm\, which will include beverages and hors d&#39\; oeuvres. &nbsp\;</span><br style="box-sizing: content-box\; bottom: auto\; clear: none\; color: rgb(68\, 68\, 68)\; content: normal\; direction: inherit\; display: inline\; empty-cells: show\; float: none\; font-family: arial\, sans-serif\; font-size: 14px\; font-stretch: inherit\; left: auto\; line-height: 18.2000007629395px\; margin: 0px\; max-height: none\; max-width: none\; opacity: 1\; outline: invert none medium\; outline-offset: 0px\; overflow: visible\; padding: 0px\; position: static\; resize: none\; right: auto\; table-layout: auto\; text-overflow: clip\; top: auto\; vertical-align: baseline\; visibility: inherit\; word-break: inherit\; word-wrap: inherit\; z-index: auto\; border: none\; border-collapse: separate\; border-image-source: none\; border-image-slice: 100% 1 0\; border-image-repeat: stretch\; border-radius: 0px\; height: auto\; width: auto\; background-image: none\; background-attachment: initial\; background-size: initial\; background-origin: initial\; background-clip: initial\; background-position: initial\; background-repeat: initial\;" />\n<br style="box-sizing: content-box\; bottom: auto\; clear: none\; color: rgb(68\, 68\, 68)\; content: normal\; direction: inherit\; display: inline\; empty-cells: show\; float: none\; font-family: arial\, sans-serif\; font-size: 14px\; font-stretch: inherit\; left: auto\; line-height: 18.2000007629395px\; margin: 0px\; max-height: none\; max-width: none\; opacity: 1\; outline: invert none medium\; outline-offset: 0px\; overflow: visible\; padding: 0px\; position: static\; resize: none\; right: auto\; table-layout: auto\; text-overflow: clip\; top: auto\; vertical-align: baseline\; visibility: inherit\; word-break: inherit\; word-wrap: inherit\; z-index: auto\; border: none\; border-collapse: separate\; border-image-source: none\; border-image-slice: 100% 1 0\; border-image-repeat: stretch\; border-radius: 0px\; height: auto\; width: auto\; background-image: none\; background-attachment: initial\; background-size: initial\; background-origin: initial\; background-clip: initial\; background-position: initial\; background-repeat: initial\;" />\n<span style="color: rgb(68\, 68\, 68)\; font-family: arial\, sans-serif\; font-size: 14px\; line-height: 18.2000007629395px\;">Join us in supporting our local retailers during a night of fashion\, fun\, and music!<br />\n<br />\n<strong>Participating Retailers:</strong></span><br />\n<span style="font-family: arial\, sans-serif\; font-size: 14px\; line-height: 18.2000007629395px\;"><a href="http://renaissanceannarbor.com/"><span style="color:#006699\;">RENAISSANCE</span></a></span><br />\n<span style="font-family: arial\, sans-serif\; font-size: 14px\; line-height: 18.2000007629395px\;"><a href="http://www.perpetuaboutique.com/"><span style="color:#006699\;">Perpetua Boutique Organique</span></a><br />\n<a href="https://www.facebook.com/vanbovenmenswear"><span style="color:#006699\;">Van Boven Clothing<br />\n&#8203\;</span></a><a href="http://www.maggiesorganics.com/"><span style="color:#006699\;">Maggie&#39\;s Organics</span></a><br />\n<a href="https://silpada.com/public/?rep=michelle.dreger"><span style="color:#006699\;">SILPADA</span></a><br />\n<a href="http://www.legion-goods.com/category/tops-outerwear"><span style="color:#006699\;">Legion Goods/Gallery</span></a></span><br />\n<a href="http://www.ninamclemore.com/"><span style="color:#006699\;">Nina McLemore</span></a><br />\n<a href="https://www.facebook.com/TodayClothing"><span style="color:#006699\;">Today Clothing</span></a><br />\n<a href="https://www.bivouacannarbor.com/"><span style="color:#006699\;">Bivouac</span></a><br />\n<a href="http://www.karenegren.com/47gipazqsgg54wiymiwpw6mzy96xs3"><span style="color:#006699\;">Karen Egren<br />\n&#8203\;</span></a><a href="http://collectedworksannarbor.com/"><span style="color:#006699\;">Collected Works</span></a><br />\n<a href="http://www.thebarrecode.com"><span style="color:#006699\;">The Barre Code</span></a><br />\n<a href="http://www.jjill.com/jjillonline/index.aspx"><span style="color:#006699\;">J.Jill</span></a><br />\n<a href="https://www.myurbantoddler.com/"><span style="color:#006699\;">My Urban Toddler</span></a><br />\n<a href="http://evereve.com/"><span style="color:#006699\;">EVEREVE</span></a><br />\n<a href="http://www.shopv2v.com/"><span style="color:#006699\;">V2V</span></a><br />\n<a href="http://www.annexofparedown.com/"><span style="color:#006699\;">Annex of paredown</span></a>
LOCATION:Ann Arbor City Club 1830 Washtenaw Ave Ann Arbor\, MI 48104
UID:e.276.5915
SEQUENCE:3
DTSTAMP:20260422T160224Z
URL:https://business.a2ychamber.org/events/details/fashion-forward-all-that-glitters-tonight-is-gold-03-20-2015-5915
END:VEVENT

END:VCALENDAR
