BEGIN:VCALENDAR
VERSION:2.0
PRODID:-//ChamberMaster//Event Calendar 2.0//EN
METHOD:PUBLISH
X-PUBLISHED-TTL:P3D
REFRESH-INTERVAL:P3D
CALSCALE:GREGORIAN
BEGIN:VEVENT
DTSTART:20230623T123000Z
DTEND:20230623T133000Z
X-MICROSOFT-CDO-ALLDAYEVENT:FALSE
SUMMARY:Edward Jones Coffee Club
DESCRIPTION:Discussing current events\, the economy and investing - in a relaxed\, informal setting   it is a great way to get to know one another. Coffee is on me!
X-ALT-DESC;FMTTYPE=text/html:<span style="color:#19191A"><span style="font-family:segoe ui\,sans-serif"><span style="font-size:13.0pt">Discussing current events\, the economy and investing - in a relaxed\, informal setting &ndash\; it is a great way to get to know one another. Coffee is on me!</span></span></span>
LOCATION:Brewed Awakenings Cafe 7025 E Michigan Ave Saline\, MI
UID:e.276.18040
SEQUENCE:3
DTSTAMP:20260420T183402Z
URL:https://business.a2ychamber.org/events/details/edward-jones-coffee-club-18040
END:VEVENT

END:VCALENDAR
