BEGIN:VCALENDAR
VERSION:2.0
PRODID:-//ChamberMaster//Event Calendar 2.0//EN
METHOD:PUBLISH
X-PUBLISHED-TTL:P3D
REFRESH-INTERVAL:P3D
CALSCALE:GREGORIAN
BEGIN:VEVENT
DTSTART:20260428T180000Z
DTEND:20260428T190000Z
X-MICROSOFT-CDO-ALLDAYEVENT:FALSE
SUMMARY:A2Y New Member Orientation
DESCRIPTION:Join us for an introduction to the Member Information Center (MIC). You'll learn how to share news\, promote special offers\, and highlight key information about your business.\n\n \n\nWe'll also cover effective ways to maximize your Chamber membership by taking full advantage of the promotional tools and benefits available to you.\n\n\n\nPerhaps you've been a part of the Chamber and have questions about the benefits. You are welcome to join us.\n\n \n\nThis is a one-hour session.
X-ALT-DESC;FMTTYPE=text/html:<span style="font-size:16px\;">Join us for an introduction to the Member Information Center (MIC). You&rsquo\;ll learn how to share news\, promote special offers\, and highlight key information about your business.<br />\n&nbsp\;<br />\nWe&rsquo\;ll also cover effective ways to maximize your Chamber membership by taking full advantage of the promotional tools and benefits available to you.<br />\n<br />\nPerhaps you&#39\;ve been a part of the Chamber and have questions about the benefits. You are welcome to join us.<br />\n&nbsp\;<br />\nThis is a one-hour session.</span>
LOCATION:A2Y Chamber Office 2010 Hogback Rd.\, Suite 4 Ann Arbor\, MI
UID:e.276.19458
SEQUENCE:3
DTSTAMP:20260422T195038Z
URL:https://business.a2ychamber.org/events/details/a2y-new-member-orientation-04-28-2026-19458
END:VEVENT

END:VCALENDAR
