BEGIN:VCALENDAR
VERSION:2.0
PRODID:-//ChamberMaster//Event Calendar 2.0//EN
METHOD:PUBLISH
X-PUBLISHED-TTL:P3D
REFRESH-INTERVAL:P3D
CALSCALE:GREGORIAN
BEGIN:VEVENT
DTSTART:20201028T130000Z
DTEND:20201028T140000Z
X-MICROSOFT-CDO-ALLDAYEVENT:FALSE
SUMMARY:A2Y Chamber Event: Virtual Early Edition - Shop Local
DESCRIPTION:Hear from our small business community on the importance of shopping local. Also\, learn about a campaign to drive traffic and become an economic catalyst in Washtenaw County this Holiday season!\n\n\n\nPanelists:\n\nJanet Muhleman\, President\, Regroup\n\nEd Davidson\, Owner\, Bivouac Ann Arbor\n\nHaley Burrill\, University of Michigan Credit Union\n\nSandra Andrade\, Main Street Area Association
X-ALT-DESC;FMTTYPE=text/html:<span style="font-size:14px\;"><span style="font-family:arial\;"><span style="color: rgb(0\, 0\, 0)\; white-space: pre-wrap\;">Hear from our small business community on the importance of shopping local.&nbsp\;Also\, learn about a campaign to drive traffic and become an economic catalyst in Washtenaw County this Holiday season!</span><br />\n<br />\n<span style="color:#1d2129\;"><strong>Panelists:</strong><br />\nJanet Muhleman\, President\,&nbsp\;<a data-saferedirecturl="https://www.google.com/url?q=https://www.facebook.com/regroupinc/?__tn__%3DK-R%26eid%3DARBFJbyDQKNbon3DJBGIgOzD-Q9XP9b__OVAAzj_VqNAzCQ419vHjsnjqC33U9KKYIUSHifyfaLKLca3%26fref%3Dmentions%26__xts__%255B0%255D%3D68.ARABFWdgfJkSnNqHkc0PC380RnFON50ibUYLhun1HITJEu3BfHrqDvyI-kEBeHdEVyp3pcZrYmo59raFq8_odkvd5FI2fQHonz-gAtvHL6UHU8hI0dvZcugRvdZw_6wAipromACm8Ud5mlGj2zNHAn0RewWhCZz6yngdC8op7UtAGL8aXLJ2qYBixBW2tElspu25j5AlJHYo6FZVaBp79lC1VRCg2u7vSkHFMquPYapI56lEXGEyf1kk--yCo7tlu2aWOXC_n0LhX9fbDdTR5qO30T6xOIUIa1vABSgIaltNxT8WHogYNkFFI-PMdWrjOQIYoEm1VWcfSMRNZCf14w8-3w&amp\;source=gmail&amp\;ust=1603759640996000&amp\;usg=AFQjCNHsgatsRtTh7_AS-9YgRNqD1t6_FQ" href="https://www.facebook.com/regroupinc/?__tn__=K-R&amp\;eid=ARBFJbyDQKNbon3DJBGIgOzD-Q9XP9b__OVAAzj_VqNAzCQ419vHjsnjqC33U9KKYIUSHifyfaLKLca3&amp\;fref=mentions&amp\;__xts__%5B0%5D=68.ARABFWdgfJkSnNqHkc0PC380RnFON50ibUYLhun1HITJEu3BfHrqDvyI-kEBeHdEVyp3pcZrYmo59raFq8_odkvd5FI2fQHonz-gAtvHL6UHU8hI0dvZcugRvdZw_6wAipromACm8Ud5mlGj2zNHAn0RewWhCZz6yngdC8op7UtAGL8aXLJ2qYBixBW2tElspu25j5AlJHYo6FZVaBp79lC1VRCg2u7vSkHFMquPYapI56lEXGEyf1kk--yCo7tlu2aWOXC_n0LhX9fbDdTR5qO30T6xOIUIa1vABSgIaltNxT8WHogYNkFFI-PMdWrjOQIYoEm1VWcfSMRNZCf14w8-3w" style="color:rgb(17\, 85\, 204)\;" target="_blank"><span style="color:#385898\;">Regroup</span></a><br />\nEd Davidson\, Owner\,&nbsp\;<a data-saferedirecturl="https://www.google.com/url?q=https://www.facebook.com/bivouacannarbor/?__tn__%3DK-R%26eid%3DARBbKRtppx730NyyxicpYto0Nq60y-HGZc7Fe4zuwV33fvynWAKYCa2A89W8NKK6IC0QU8cflDzVIfnS%26fref%3Dmentions%26__xts__%255B0%255D%3D68.ARABFWdgfJkSnNqHkc0PC380RnFON50ibUYLhun1HITJEu3BfHrqDvyI-kEBeHdEVyp3pcZrYmo59raFq8_odkvd5FI2fQHonz-gAtvHL6UHU8hI0dvZcugRvdZw_6wAipromACm8Ud5mlGj2zNHAn0RewWhCZz6yngdC8op7UtAGL8aXLJ2qYBixBW2tElspu25j5AlJHYo6FZVaBp79lC1VRCg2u7vSkHFMquPYapI56lEXGEyf1kk--yCo7tlu2aWOXC_n0LhX9fbDdTR5qO30T6xOIUIa1vABSgIaltNxT8WHogYNkFFI-PMdWrjOQIYoEm1VWcfSMRNZCf14w8-3w&amp\;source=gmail&amp\;ust=1603759640996000&amp\;usg=AFQjCNHNl1jdg8W6v_4ie73h7nVPD8Pf-A" href="https://www.facebook.com/bivouacannarbor/?__tn__=K-R&amp\;eid=ARBbKRtppx730NyyxicpYto0Nq60y-HGZc7Fe4zuwV33fvynWAKYCa2A89W8NKK6IC0QU8cflDzVIfnS&amp\;fref=mentions&amp\;__xts__%5B0%5D=68.ARABFWdgfJkSnNqHkc0PC380RnFON50ibUYLhun1HITJEu3BfHrqDvyI-kEBeHdEVyp3pcZrYmo59raFq8_odkvd5FI2fQHonz-gAtvHL6UHU8hI0dvZcugRvdZw_6wAipromACm8Ud5mlGj2zNHAn0RewWhCZz6yngdC8op7UtAGL8aXLJ2qYBixBW2tElspu25j5AlJHYo6FZVaBp79lC1VRCg2u7vSkHFMquPYapI56lEXGEyf1kk--yCo7tlu2aWOXC_n0LhX9fbDdTR5qO30T6xOIUIa1vABSgIaltNxT8WHogYNkFFI-PMdWrjOQIYoEm1VWcfSMRNZCf14w8-3w" style="color:rgb(17\, 85\, 204)\;" target="_blank"><span style="color:#385898\;">Bivouac Ann Arbor</span></a></span><br />\nHaley Burrill\,&nbsp\;<u><span style="color:#1f497d\;">University of Michigan Credit Union</span></u><br />\nSandra Andrade\,&nbsp\;<u><span style="color:#1f497d\;">Main Street Area Association</span></u></span></span>
LOCATION:
UID:e.276.17094
SEQUENCE:3
DTSTAMP:20260423T085931Z
URL:https://business.a2ychamber.org/events/details/a2y-chamber-event-virtual-early-edition-shop-local-17094
END:VEVENT

END:VCALENDAR
