BEGIN:VCALENDAR
VERSION:2.0
PRODID:-//ChamberMaster//Event Calendar 2.0//EN
METHOD:PUBLISH
X-PUBLISHED-TTL:P3D
REFRESH-INTERVAL:P3D
CALSCALE:GREGORIAN
BEGIN:VEVENT
DTSTART:20190918T110000Z
DTEND:20190918T124500Z
X-MICROSOFT-CDO-ALLDAYEVENT:FALSE
SUMMARY:A2Y Chamber Event: Early Edition - The Loss of Local Media: How to Remain Informed and Engaged
DESCRIPTION:Like many other communities\, the Ann Arbor-Ypsilanti area has been impacted by the loss of local media. The lack of a daily newspaper with community-wide circulation has been the most recognizable example\, but other outlets have also closed or reduced their operations. September's Early Edition will take look at this issue and try and make better sense of how we got here\, and what we can do going forward to ensure that we remain informed on the important issues facing our community\, our region\, and our country. Joining us will be an amazing panel featuring:\n\n	Hon. Barbara McQuade Professor\, Michigan Law\, and former U.S attorney for the Eastern District of Michigan\;\n	Lynette Clemetson\, Director of Wallace House\, University of Michigan\; and\n	Molly Motherwell\, General Manager\, 89.1 WEMU\n\nJoin us for this informative Early Edition.
X-ALT-DESC;FMTTYPE=text/html:<span style="font-size:14px\;"><span style="font-family:arial\;">Like many other communities\, the Ann Arbor-Ypsilanti area has been impacted by the loss of local media. The lack of a daily newspaper with community-wide circulation has been the most recognizable example\, but other outlets have also closed or reduced their operations. September&rsquo\;s Early Edition will take look at this issue and try and make better sense of how we got here\, and what we can do going forward to ensure that we remain informed on the important issues facing our community\, our region\, and our country. Joining us will be an amazing panel featuring:</span></span>\n<ul>\n	<li><span style="font-size:14px\;"><span style="font-family:arial\;">Hon. Barbara McQuade Professor\, Michigan Law\, and former U.S attorney for the Eastern District of Michigan\;</span></span></li>\n	<li><span style="font-size:14px\;"><span style="font-family:arial\;">Lynette Clemetson\, Director of Wallace House\, University of Michigan\; and</span></span></li>\n	<li><span style="font-size:14px\;"><span style="font-family:arial\;">Molly Motherwell\, General Manager\, 89.1 WEMU</span></span></li>\n</ul>\n<span style="font-size:14px\;"><span style="font-family:arial\;">Join us for this informative Early Edition.</span></span><br />\n<br />\n&nbsp\;
LOCATION:Weber's Boutique Hotel & Restaurant Inn 3050 Jackson Rd. Ann Arbor\, MI 48103
UID:e.276.15637
SEQUENCE:3
DTSTAMP:20260423T093908Z
URL:https://business.a2ychamber.org/events/details/a2y-chamber-event-early-edition-the-loss-of-local-media-how-to-remain-informed-and-engaged-15637
END:VEVENT

END:VCALENDAR
